30.0000000000
0.0000000000
0.0000000000
-30.0000000000
-380606.3456999995
520469.7940999996
